Workbook

Sheet DESTINO 1
A1: ViajeSim! | B1: =B13 -> Tipo de Despesa | D1: Pago em: | H1: =K13 -> Valor Final (R$) | I1: Destino 1
D2: =D14 -> Moeda Local | E2: =E14 -> US$ | F2: =F14 -> R$ | G2: =G14 -> Cartão de crédito (R$)
B3: =TOTAL!A4 -> Alimentação | D3: =SUMIF(B15:B114,B3,D15:D114) -> 0 | E3: =SUMIF(B15:B114,B3,E15:E114) -> 0 | F3: =SUMIF(B15:B114,B3,F15:F114) -> 0 | G3: =SUMIF(B15:B114,B3,G15:G114) -> 0 | H3: =SUMIF(B15:B114,B3,K15:K114) -> 0
B4: =TOTAL!A5 -> Compras | D4: =SUMIF(B15:B114,B4,D15:D114) -> 0 | E4: =SUMIF(B15:B114,B4,E15:E114) -> 0 | F4: =SUMIF(B15:B114,B4,F15:F114) -> 0 | G4: =SUMIF(B15:B114,B4,G15:G114) -> 0 | H4: =SUMIF(B15:B114,B4,K15:K114) -> 0
B5: =TOTAL!A6 -> Hospedagem | D5: =SUMIF(B15:B114,B5,D15:D114) -> 0 | E5: =SUMIF(B15:B114,B5,E15:E114) -> 0 | F5: =SUMIF(B15:B114,B5,F15:F114) -> 0 | G5: =SUMIF(B15:B114,B5,G15:G114) -> 0 | H5: =SUMIF(B15:B114,B5,K15:K114) -> 0
B6: =TOTAL!A7 -> Imprevisíveis | D6: =SUMIF(B15:B114,B6,D15:D114) -> 0 | E6: =SUMIF(B15:B114,B6,E15:E114) -> 0 | F6: =SUMIF(B15:B114,B6,F15:F114) -> 0 | G6: =SUMIF(B15:B114,B6,G15:G114) -> 0 | H6: =SUMIF(B15:B114,B6,K15:K114) -> 0 | I6: =TOTAL!B2 -> Destino 1
B7: =TOTAL!A8 -> Passagens | D7: =SUMIF(B15:B114,B7,D15:D114) -> 0 | E7: =SUMIF(B15:B114,B7,E15:E114) -> 0 | F7: =SUMIF(B15:B114,B7,F15:F114) -> 0 | G7: =SUMIF(B15:B114,B7,G15:G114) -> 0 | H7: =SUMIF(B15:B114,B7,K15:K114) -> 0
B8: =TOTAL!A9 -> Preparativos | D8: =SUMIF(B15:B114,B8,D15:D114) -> 0 | E8: =SUMIF(B15:B114,B8,E15:E114) -> 0 | F8: =SUMIF(B15:B114,B8,F15:F114) -> 0 | G8: =SUMIF(B15:B114,B8,G15:G114) -> 0 | H8: =SUMIF(B15:B114,B8,K15:K114) -> 0
B9: =TOTAL!A10 -> Transporte local | D9: =SUMIF(B15:B114,B9,D15:D114) -> 0 | E9: =SUMIF(B15:B114,B9,E15:E114) -> 0 | F9: =SUMIF(B15:B114,B9,F15:F114) -> 0 | G9: =SUMIF(B15:B114,B9,G15:G114) -> 0 | H9: =SUMIF(B15:B114,B9,K15:K114) -> 0
B10: =TOTAL!A11 -> Turismo | D10: =SUMIF(B15:B114,B10,D15:D114) -> 0 | E10: =SUMIF(B15:B114,B10,E15:E114) -> 0 | F10: =SUMIF(B15:B114,B10,F15:F114) -> 0 | G10: =SUMIF(B15:B114,B10,G15:G114) -> 0 | H10: =SUMIF(B15:B114,B10,K15:K114) -> 0
B11: Total | D11: =SUM(D3:D10) -> 0 | E11: =SUM(E3:E10) -> 0 | F11: =SUM(F3:F10) -> 0 | G11: =SUM(G3:G10) -> 0 | H11: =SUM(H3:H10) -> 0
A13: Data | B13: Tipo de Despesa | C13: Descrição | D13: Pago em: | H13: Taxa de Câmbio | J13: Diferença Cotação | K13: Valor Final (R$)
D14: Moeda Local | E14: US$ | F14: R$ | G14: Cartão de crédito (R$) | H14: Moeda local/US$ | I14: R$/US$ | J14: Fechamento C.Crédito
H15: 1 | I15: 2.3 | J15: 0 | K15: =(((D15/H15)+E15)*I15)+F15+G15+J15 -> 0
H16: 1 | I16: 2.3 | J16: 0 | K16: =(((D16/H16)+E16)*I16)+F16+G16+J16 -> 0
H17: 1 | I17: 2.3 | J17: 0 | K17: =(((D17/H17)+E17)*I17)+F17+G17+J17 -> 0
H18: 1 | I18: 2.3 | J18: 0 | K18: =(((D18/H18)+E18)*I18)+F18+G18+J18 -> 0
H19: 1 | I19: 2.3 | J19: 0 | K19: =(((D19/H19)+E19)*I19)+F19+G19+J19 -> 0
H20: 1 | I20: 2.3 | J20: 0 | K20: =(((D20/H20)+E20)*I20)+F20+G20+J20 -> 0
H21: 1 | I21: 2.3 | J21: 0 | K21: =(((D21/H21)+E21)*I21)+F21+G21+J21 -> 0
H22: 1 | I22: 2.3 | J22: 0 | K22: =(((D22/H22)+E22)*I22)+F22+G22+J22 -> 0
H23: 1 | I23: 2.3 | J23: 0 | K23: =(((D23/H23)+E23)*I23)+F23+G23+J23 -> 0
H24: 1 | I24: 2.3 | J24: 0 | K24: =(((D24/H24)+E24)*I24)+F24+G24+J24 -> 0
H25: 1 | I25: 2.3 | J25: 0 | K25: =(((D25/H25)+E25)*I25)+F25+G25+J25 -> 0
H26: 1 | I26: 2.3 | J26: 0 | K26: =(((D26/H26)+E26)*I26)+F26+G26+J26 -> 0
... H114: 1 | I114: 2.3 | J114: 0 | K114: =(((D114/H114)+E114)*I114)+F114+G114+J114 -> 0

Sheet DESTINO 2
A1: ViajeSim! | B1: =B13 -> Tipo de Despesa | D1: Pago em: | H1: =K13 -> Valor Final (R$) | I1: Destino 1
D2: =D14 -> Moeda Local | E2: =E14 -> US$ | F2: =F14 -> R$ | G2: =G14 -> Cartão de crédito (R$)
B3: =TOTAL!A4 -> Alimentação | D3: =SUMIF(B15:B114,B3,D15:D114) -> 0 | E3: =SUMIF(B15:B114,B3,E15:E114) -> 0 | F3: =SUMIF(B15:B114,B3,F15:F114) -> 0 | G3: =SUMIF(B15:B114,B3,G15:G114) -> 0 | H3: =SUMIF(B15:B114,B3,K15:K114) -> 0
B4: =TOTAL!A5 -> Compras | D4: =SUMIF(B15:B114,B4,D15:D114) -> 0 | E4: =SUMIF(B15:B114,B4,E15:E114) -> 0 | F4: =SUMIF(B15:B114,B4,F15:F114) -> 0 | G4: =SUMIF(B15:B114,B4,G15:G114) -> 0 | H4: =SUMIF(B15:B114,B4,K15:K114) -> 0
B5: =TOTAL!A6 -> Hospedagem | D5: =SUMIF(B15:B114,B5,D15:D114) -> 0 | E5: =SUMIF(B15:B114,B5,E15:E114) -> 0 | F5: =SUMIF(B15:B114,B5,F15:F114) -> 0 | G5: =SUMIF(B15:B114,B5,G15:G114) -> 0 | H5: =SUMIF(B15:B114,B5,K15:K114) -> 0
B6: =TOTAL!A7 -> Imprevisíveis | D6: =SUMIF(B15:B114,B6,D15:D114) -> 0 | E6: =SUMIF(B15:B114,B6,E15:E114) -> 0 | F6: =SUMIF(B15:B114,B6,F15:F114) -> 0 | G6: =SUMIF(B15:B114,B6,G15:G114) -> 0 | H6: =SUMIF(B15:B114,B6,K15:K114) -> 0 | I6: =TOTAL!C2 -> Destino 2
B7: =TOTAL!A8 -> Passagens | D7: =SUMIF(B15:B114,B7,D15:D114) -> 0 | E7: =SUMIF(B15:B114,B7,E15:E114) -> 0 | F7: =SUMIF(B15:B114,B7,F15:F114) -> 0 | G7: =SUMIF(B15:B114,B7,G15:G114) -> 0 | H7: =SUMIF(B15:B114,B7,K15:K114) -> 0
B8: =TOTAL!A9 -> Preparativos | D8: =SUMIF(B15:B114,B8,D15:D114) -> 0 | E8: =SUMIF(B15:B114,B8,E15:E114) -> 0 | F8: =SUMIF(B15:B114,B8,F15:F114) -> 0 | G8: =SUMIF(B15:B114,B8,G15:G114) -> 0 | H8: =SUMIF(B15:B114,B8,K15:K114) -> 0
B9: =TOTAL!A10 -> Transporte local | D9: =SUMIF(B15:B114,B9,D15:D114) -> 0 | E9: =SUMIF(B15:B114,B9,E15:E114) -> 0 | F9: =SUMIF(B15:B114,B9,F15:F114) -> 0 | G9: =SUMIF(B15:B114,B9,G15:G114) -> 0 | H9: =SUMIF(B15:B114,B9,K15:K114) -> 0
B10: =TOTAL!A11 -> Turismo | D10: =SUMIF(B15:B114,B10,D15:D114) -> 0 | E10: =SUMIF(B15:B114,B10,E15:E114) -> 0 | F10: =SUMIF(B15:B114,B10,F15:F114) -> 0 | G10: =SUMIF(B15:B114,B10,G15:G114) -> 0 | H10: =SUMIF(B15:B114,B10,K15:K114) -> 0
B11: Total | D11: =SUM(D3:D10) -> 0 | E11: =SUM(E3:E10) -> 0 | F11: =SUM(F3:F10) -> 0 | G11: =SUM(G3:G10) -> 0 | H11: =SUM(H3:H10) -> 0
A13: Data | B13: Tipo de Despesa | C13: Descrição | D13: Pago em: | H13: Taxa de Câmbio | J13: Diferença Cotação | K13: Valor Final (R$)
D14: Moeda Local | E14: US$ | F14: R$ | G14: Cartão de crédito (R$) | H14: Moeda local/US$ | I14: R$/US$ | J14: Fechamento C.Crédito
H15: 1 | I15: 2.3 | J15: 0 | K15: =(((D15/H15)+E15)*I15)+F15+G15+J15 -> 0
H16: 1 | I16: 2.3 | J16: 0 | K16: =(((D16/H16)+E16)*I16)+F16+G16+J16 -> 0
H17: 1 | I17: 2.3 | J17: 0 | K17: =(((D17/H17)+E17)*I17)+F17+G17+J17 -> 0
H18: 1 | I18: 2.3 | J18: 0 | K18: =(((D18/H18)+E18)*I18)+F18+G18+J18 -> 0
H19: 1 | I19: 2.3 | J19: 0 | K19: =(((D19/H19)+E19)*I19)+F19+G19+J19 -> 0
H20: 1 | I20: 2.3 | J20: 0 | K20: =(((D20/H20)+E20)*I20)+F20+G20+J20 -> 0
H21: 1 | I21: 2.3 | J21: 0 | K21: =(((D21/H21)+E21)*I21)+F21+G21+J21 -> 0
H22: 1 | I22: 2.3 | J22: 0 | K22: =(((D22/H22)+E22)*I22)+F22+G22+J22 -> 0
H23: 1 | I23: 2.3 | J23: 0 | K23: =(((D23/H23)+E23)*I23)+F23+G23+J23 -> 0
H24: 1 | I24: 2.3 | J24: 0 | K24: =(((D24/H24)+E24)*I24)+F24+G24+J24 -> 0
H25: 1 | I25: 2.3 | J25: 0 | K25: =(((D25/H25)+E25)*I25)+F25+G25+J25 -> 0
H26: 1 | I26: 2.3 | J26: 0 | K26: =(((D26/H26)+E26)*I26)+F26+G26+J26 -> 0
... H114: 1 | I114: 2.3 | J114: 0 | K114: =(((D114/H114)+E114)*I114)+F114+G114+J114 -> 0

Sheet DESTINO 3
A1: ViajeSim! | B1: =B13 -> Tipo de Despesa | D1: Pago em: | H1: =K13 -> Valor Final (R$) | I1: Destino 1
D2: =D14 -> Moeda Local | E2: =E14 -> US$ | F2: =F14 -> R$ | G2: =G14 -> Cartão de crédito (R$)
B3: =TOTAL!A4 -> Alimentação | D3: =SUMIF(B15:B114,B3,D15:D114) -> 0 | E3: =SUMIF(B15:B114,B3,E15:E114) -> 0 | F3: =SUMIF(B15:B114,B3,F15:F114) -> 0 | G3: =SUMIF(B15:B114,B3,G15:G114) -> 0 | H3: =SUMIF(B15:B114,B3,K15:K114) -> 0
B4: =TOTAL!A5 -> Compras | D4: =SUMIF(B15:B114,B4,D15:D114) -> 0 | E4: =SUMIF(B15:B114,B4,E15:E114) -> 0 | F4: =SUMIF(B15:B114,B4,F15:F114) -> 0 | G4: =SUMIF(B15:B114,B4,G15:G114) -> 0 | H4: =SUMIF(B15:B114,B4,K15:K114) -> 0
B5: =TOTAL!A6 -> Hospedagem | D5: =SUMIF(B15:B114,B5,D15:D114) -> 0 | E5: =SUMIF(B15:B114,B5,E15:E114) -> 0 | F5: =SUMIF(B15:B114,B5,F15:F114) -> 0 | G5: =SUMIF(B15:B114,B5,G15:G114) -> 0 | H5: =SUMIF(B15:B114,B5,K15:K114) -> 0
B6: =TOTAL!A7 -> Imprevisíveis | D6: =SUMIF(B15:B114,B6,D15:D114) -> 0 | E6: =SUMIF(B15:B114,B6,E15:E114) -> 0 | F6: =SUMIF(B15:B114,B6,F15:F114) -> 0 | G6: =SUMIF(B15:B114,B6,G15:G114) -> 0 | H6: =SUMIF(B15:B114,B6,K15:K114) -> 0 | I6: =TOTAL!D2 -> Destino 3
B7: =TOTAL!A8 -> Passagens | D7: =SUMIF(B15:B114,B7,D15:D114) -> 0 | E7: =SUMIF(B15:B114,B7,E15:E114) -> 0 | F7: =SUMIF(B15:B114,B7,F15:F114) -> 0 | G7: =SUMIF(B15:B114,B7,G15:G114) -> 0 | H7: =SUMIF(B15:B114,B7,K15:K114) -> 0
B8: =TOTAL!A9 -> Preparativos | D8: =SUMIF(B15:B114,B8,D15:D114) -> 0 | E8: =SUMIF(B15:B114,B8,E15:E114) -> 0 | F8: =SUMIF(B15:B114,B8,F15:F114) -> 0 | G8: =SUMIF(B15:B114,B8,G15:G114) -> 0 | H8: =SUMIF(B15:B114,B8,K15:K114) -> 0
B9: =TOTAL!A10 -> Transporte local | D9: =SUMIF(B15:B114,B9,D15:D114) -> 0 | E9: =SUMIF(B15:B114,B9,E15:E114) -> 0 | F9: =SUMIF(B15:B114,B9,F15:F114) -> 0 | G9: =SUMIF(B15:B114,B9,G15:G114) -> 0 | H9: =SUMIF(B15:B114,B9,K15:K114) -> 0
B10: =TOTAL!A11 -> Turismo | D10: =SUMIF(B15:B114,B10,D15:D114) -> 0 | E10: =SUMIF(B15:B114,B10,E15:E114) -> 0 | F10: =SUMIF(B15:B114,B10,F15:F114) -> 0 | G10: =SUMIF(B15:B114,B10,G15:G114) -> 0 | H10: =SUMIF(B15:B114,B10,K15:K114) -> 0
B11: Total | D11: =SUM(D3:D10) -> 0 | E11: =SUM(E3:E10) -> 0 | F11: =SUM(F3:F10) -> 0 | G11: =SUM(G3:G10) -> 0 | H11: =SUM(H3:H10) -> 0
A13: Data | B13: Tipo de Despesa | C13: Descrição | D13: Pago em: | H13: Taxa de Câmbio | J13: Diferença Cotação | K13: Valor Final (R$)
D14: Moeda Local | E14: US$ | F14: R$ | G14: Cartão de crédito (R$) | H14: Moeda local/US$ | I14: R$/US$ | J14: Fechamento C.Crédito
H15: 1 | I15: 2.3 | J15: 0 | K15: =(((D15/H15)+E15)*I15)+F15+G15+J15 -> 0
H16: 1 | I16: 2.3 | J16: 0 | K16: =(((D16/H16)+E16)*I16)+F16+G16+J16 -> 0
H17: 1 | I17: 2.3 | J17: 0 | K17: =(((D17/H17)+E17)*I17)+F17+G17+J17 -> 0
H18: 1 | I18: 2.3 | J18: 0 | K18: =(((D18/H18)+E18)*I18)+F18+G18+J18 -> 0
H19: 1 | I19: 2.3 | J19: 0 | K19: =(((D19/H19)+E19)*I19)+F19+G19+J19 -> 0
H20: 1 | I20: 2.3 | J20: 0 | K20: =(((D20/H20)+E20)*I20)+F20+G20+J20 -> 0
H21: 1 | I21: 2.3 | J21: 0 | K21: =(((D21/H21)+E21)*I21)+F21+G21+J21 -> 0
H22: 1 | I22: 2.3 | J22: 0 | K22: =(((D22/H22)+E22)*I22)+F22+G22+J22 -> 0
H23: 1 | I23: 2.3 | J23: 0 | K23: =(((D23/H23)+E23)*I23)+F23+G23+J23 -> 0
H24: 1 | I24: 2.3 | J24: 0 | K24: =(((D24/H24)+E24)*I24)+F24+G24+J24 -> 0
H25: 1 | I25: 2.3 | J25: 0 | K25: =(((D25/H25)+E25)*I25)+F25+G25+J25 -> 0
H26: 1 | I26: 2.3 | J26: 0 | K26: =(((D26/H26)+E26)*I26)+F26+G26+J26 -> 0
... H114: 1 | I114: 2.3 | J114: 0 | K114: =(((D114/H114)+E114)*I114)+F114+G114+J114 -> 0

Sheet DESTINO 4
A1: ViajeSim! | B1: =B13 -> Tipo de Despesa | D1: Pago em: | H1: =K13 -> Valor Final (R$) | I1: Destino 1
D2: =D14 -> Moeda Local | E2: =E14 -> US$ | F2: =F14 -> R$ | G2: =G14 -> Cartão de crédito (R$)
B3: =TOTAL!A4 -> Alimentação | D3: =SUMIF(B15:B114,B3,D15:D114) -> 0 | E3: =SUMIF(B15:B114,B3,E15:E114) -> 0 | F3: =SUMIF(B15:B114,B3,F15:F114) -> 0 | G3: =SUMIF(B15:B114,B3,G15:G114) -> 0 | H3: =SUMIF(B15:B114,B3,K15:K114) -> 0
B4: =TOTAL!A5 -> Compras | D4: =SUMIF(B15:B114,B4,D15:D114) -> 0 | E4: =SUMIF(B15:B114,B4,E15:E114) -> 0 | F4: =SUMIF(B15:B114,B4,F15:F114) -> 0 | G4: =SUMIF(B15:B114,B4,G15:G114) -> 0 | H4: =SUMIF(B15:B114,B4,K15:K114) -> 0
B5: =TOTAL!A6 -> Hospedagem | D5: =SUMIF(B15:B114,B5,D15:D114) -> 0 | E5: =SUMIF(B15:B114,B5,E15:E114) -> 0 | F5: =SUMIF(B15:B114,B5,F15:F114) -> 0 | G5: =SUMIF(B15:B114,B5,G15:G114) -> 0 | H5: =SUMIF(B15:B114,B5,K15:K114) -> 0
B6: =TOTAL!A7 -> Imprevisíveis | D6: =SUMIF(B15:B114,B6,D15:D114) -> 0 | E6: =SUMIF(B15:B114,B6,E15:E114) -> 0 | F6: =SUMIF(B15:B114,B6,F15:F114) -> 0 | G6: =SUMIF(B15:B114,B6,G15:G114) -> 0 | H6: =SUMIF(B15:B114,B6,K15:K114) -> 0 | I6: =TOTAL!E2 -> Destino 4
B7: =TOTAL!A8 -> Passagens | D7: =SUMIF(B15:B114,B7,D15:D114) -> 0 | E7: =SUMIF(B15:B114,B7,E15:E114) -> 0 | F7: =SUMIF(B15:B114,B7,F15:F114) -> 0 | G7: =SUMIF(B15:B114,B7,G15:G114) -> 0 | H7: =SUMIF(B15:B114,B7,K15:K114) -> 0
B8: =TOTAL!A9 -> Preparativos | D8: =SUMIF(B15:B114,B8,D15:D114) -> 0 | E8: =SUMIF(B15:B114,B8,E15:E114) -> 0 | F8: =SUMIF(B15:B114,B8,F15:F114) -> 0 | G8: =SUMIF(B15:B114,B8,G15:G114) -> 0 | H8: =SUMIF(B15:B114,B8,K15:K114) -> 0
B9: =TOTAL!A10 -> Transporte local | D9: =SUMIF(B15:B114,B9,D15:D114) -> 0 | E9: =SUMIF(B15:B114,B9,E15:E114) -> 0 | F9: =SUMIF(B15:B114,B9,F15:F114) -> 0 | G9: =SUMIF(B15:B114,B9,G15:G114) -> 0 | H9: =SUMIF(B15:B114,B9,K15:K114) -> 0
B10: =TOTAL!A11 -> Turismo | D10: =SUMIF(B15:B114,B10,D15:D114) -> 0 | E10: =SUMIF(B15:B114,B10,E15:E114) -> 0 | F10: =SUMIF(B15:B114,B10,F15:F114) -> 0 | G10: =SUMIF(B15:B114,B10,G15:G114) -> 0 | H10: =SUMIF(B15:B114,B10,K15:K114) -> 0
B11: Total | D11: =SUM(D3:D10) -> 0 | E11: =SUM(E3:E10) -> 0 | F11: =SUM(F3:F10) -> 0 | G11: =SUM(G3:G10) -> 0 | H11: =SUM(H3:H10) -> 0
A13: Data | B13: Tipo de Despesa | C13: Descrição | D13: Pago em: | H13: Taxa de Câmbio | J13: Diferença Cotação | K13: Valor Final (R$)
D14: Moeda Local | E14: US$ | F14: R$ | G14: Cartão de crédito (R$) | H14: Moeda local/US$ | I14: R$/US$ | J14: Fechamento C.Crédito
H15: 1 | I15: 2.3 | J15: 0 | K15: =(((D15/H15)+E15)*I15)+F15+G15+J15 -> 0
H16: 1 | I16: 2.3 | J16: 0 | K16: =(((D16/H16)+E16)*I16)+F16+G16+J16 -> 0
H17: 1 | I17: 2.3 | J17: 0 | K17: =(((D17/H17)+E17)*I17)+F17+G17+J17 -> 0
H18: 1 | I18: 2.3 | J18: 0 | K18: =(((D18/H18)+E18)*I18)+F18+G18+J18 -> 0
H19: 1 | I19: 2.3 | J19: 0 | K19: =(((D19/H19)+E19)*I19)+F19+G19+J19 -> 0
H20: 1 | I20: 2.3 | J20: 0 | K20: =(((D20/H20)+E20)*I20)+F20+G20+J20 -> 0
H21: 1 | I21: 2.3 | J21: 0 | K21: =(((D21/H21)+E21)*I21)+F21+G21+J21 -> 0
H22: 1 | I22: 2.3 | J22: 0 | K22: =(((D22/H22)+E22)*I22)+F22+G22+J22 -> 0
H23: 1 | I23: 2.3 | J23: 0 | K23: =(((D23/H23)+E23)*I23)+F23+G23+J23 -> 0
H24: 1 | I24: 2.3 | J24: 0 | K24: =(((D24/H24)+E24)*I24)+F24+G24+J24 -> 0
H25: 1 | I25: 2.3 | J25: 0 | K25: =(((D25/H25)+E25)*I25)+F25+G25+J25 -> 0
H26: 1 | I26: 2.3 | J26: 0 | K26: =(((D26/H26)+E26)*I26)+F26+G26+J26 -> 0
... H114: 1 | I114: 2.3 | J114: 0 | K114: =(((D114/H114)+E114)*I114)+F114+G114+J114 -> 0

Sheet DESTINO 5
A1: ViajeSim! | B1: =B13 -> Tipo de Despesa | D1: Pago em: | H1: =K13 -> Valor Final (R$) | I1: Destino 1
D2: =D14 -> Moeda Local | E2: =E14 -> US$ | F2: =F14 -> R$ | G2: =G14 -> Cartão de crédito (R$)
B3: =TOTAL!A4 -> Alimentação | D3: =SUMIF(B15:B114,B3,D15:D114) -> 0 | E3: =SUMIF(B15:B114,B3,E15:E114) -> 0 | F3: =SUMIF(B15:B114,B3,F15:F114) -> 0 | G3: =SUMIF(B15:B114,B3,G15:G114) -> 0 | H3: =SUMIF(B15:B114,B3,K15:K114) -> 0
B4: =TOTAL!A5 -> Compras | D4: =SUMIF(B15:B114,B4,D15:D114) -> 0 | E4: =SUMIF(B15:B114,B4,E15:E114) -> 0 | F4: =SUMIF(B15:B114,B4,F15:F114) -> 0 | G4: =SUMIF(B15:B114,B4,G15:G114) -> 0 | H4: =SUMIF(B15:B114,B4,K15:K114) -> 0
B5: =TOTAL!A6 -> Hospedagem | D5: =SUMIF(B15:B114,B5,D15:D114) -> 0 | E5: =SUMIF(B15:B114,B5,E15:E114) -> 0 | F5: =SUMIF(B15:B114,B5,F15:F114) -> 0 | G5: =SUMIF(B15:B114,B5,G15:G114) -> 0 | H5: =SUMIF(B15:B114,B5,K15:K114) -> 0
B6: =TOTAL!A7 -> Imprevisíveis | D6: =SUMIF(B15:B114,B6,D15:D114) -> 0 | E6: =SUMIF(B15:B114,B6,E15:E114) -> 0 | F6: =SUMIF(B15:B114,B6,F15:F114) -> 0 | G6: =SUMIF(B15:B114,B6,G15:G114) -> 0 | H6: =SUMIF(B15:B114,B6,K15:K114) -> 0 | I6: =TOTAL!F2 -> Destino 5
B7: =TOTAL!A8 -> Passagens | D7: =SUMIF(B15:B114,B7,D15:D114) -> 0 | E7: =SUMIF(B15:B114,B7,E15:E114) -> 0 | F7: =SUMIF(B15:B114,B7,F15:F114) -> 0 | G7: =SUMIF(B15:B114,B7,G15:G114) -> 0 | H7: =SUMIF(B15:B114,B7,K15:K114) -> 0
B8: =TOTAL!A9 -> Preparativos | D8: =SUMIF(B15:B114,B8,D15:D114) -> 0 | E8: =SUMIF(B15:B114,B8,E15:E114) -> 0 | F8: =SUMIF(B15:B114,B8,F15:F114) -> 0 | G8: =SUMIF(B15:B114,B8,G15:G114) -> 0 | H8: =SUMIF(B15:B114,B8,K15:K114) -> 0
B9: =TOTAL!A10 -> Transporte local | D9: =SUMIF(B15:B114,B9,D15:D114) -> 0 | E9: =SUMIF(B15:B114,B9,E15:E114) -> 0 | F9: =SUMIF(B15:B114,B9,F15:F114) -> 0 | G9: =SUMIF(B15:B114,B9,G15:G114) -> 0 | H9: =SUMIF(B15:B114,B9,K15:K114) -> 0
B10: =TOTAL!A11 -> Turismo | D10: =SUMIF(B15:B114,B10,D15:D114) -> 0 | E10: =SUMIF(B15:B114,B10,E15:E114) -> 0 | F10: =SUMIF(B15:B114,B10,F15:F114) -> 0 | G10: =SUMIF(B15:B114,B10,G15:G114) -> 0 | H10: =SUMIF(B15:B114,B10,K15:K114) -> 0
B11: Total | D11: =SUM(D3:D10) -> 0 | E11: =SUM(E3:E10) -> 0 | F11: =SUM(F3:F10) -> 0 | G11: =SUM(G3:G10) -> 0 | H11: =SUM(H3:H10) -> 0
A13: Data | B13: Tipo de Despesa | C13: Descrição | D13: Pago em: | H13: Taxa de Câmbio | J13: Diferença Cotação | K13: Valor Final (R$)
D14: Moeda Local | E14: US$ | F14: R$ | G14: Cartão de crédito (R$) | H14: Moeda local/US$ | I14: R$/US$ | J14: Fechamento C.Crédito
F15: 5 | H15: 1 | I15: 2.3 | J15: 0 | K15: =(((D15/H15)+E15)*I15)+F15+G15+J15 -> 5
H16: 1 | I16: 2.3 | J16: 0 | K16: =(((D16/H16)+E16)*I16)+F16+G16+J16 -> 0
H17: 1 | I17: 2.3 | J17: 0 | K17: =(((D17/H17)+E17)*I17)+F17+G17+J17 -> 0
H18: 1 | I18: 2.3 | J18: 0 | K18: =(((D18/H18)+E18)*I18)+F18+G18+J18 -> 0
H19: 1 | I19: 2.3 | J19: 0 | K19: =(((D19/H19)+E19)*I19)+F19+G19+J19 -> 0
H20: 1 | I20: 2.3 | J20: 0 | K20: =(((D20/H20)+E20)*I20)+F20+G20+J20 -> 0
H21: 1 | I21: 2.3 | J21: 0 | K21: =(((D21/H21)+E21)*I21)+F21+G21+J21 -> 0
H22: 1 | I22: 2.3 | J22: 0 | K22: =(((D22/H22)+E22)*I22)+F22+G22+J22 -> 0
H23: 1 | I23: 2.3 | J23: 0 | K23: =(((D23/H23)+E23)*I23)+F23+G23+J23 -> 0
H24: 1 | I24: 2.3 | J24: 0 | K24: =(((D24/H24)+E24)*I24)+F24+G24+J24 -> 0
H25: 1 | I25: 2.3 | J25: 0 | K25: =(((D25/H25)+E25)*I25)+F25+G25+J25 -> 0
H26: 1 | I26: 2.3 | J26: 0 | K26: =(((D26/H26)+E26)*I26)+F26+G26+J26 -> 0
H27: 1 | I27: 2.3 | J27: 0 | K27: =(((D27/H27)+E27)*I27)+F27+G27+J27 -> 0
... H114: 1 | I114: 2.3 | J114: 0 | K114: =(((D114/H114)+E114)*I114)+F114+G114+J114 -> 0

Sheet DESTINO 6
A1: ViajeSim! | B1: =B13 -> Tipo de Despesa | D1: Pago em: | H1: =K13 -> Valor Final (R$) | I1: Destino 1
D2: =D14 -> Moeda Local | E2: =E14 -> US$ | F2: =F14 -> R$ | G2: =G14 -> Cartão de crédito (R$)
B3: =TOTAL!A4 -> Alimentação | D3: =SUMIF(B15:B114,B3,D15:D114) -> 0 | E3: =SUMIF(B15:B114,B3,E15:E114) -> 0 | F3: =SUMIF(B15:B114,B3,F15:F114) -> 0 | G3: =SUMIF(B15:B114,B3,G15:G114) -> 0 | H3: =SUMIF(B15:B114,B3,K15:K114) -> 0
B4: =TOTAL!A5 -> Compras | D4: =SUMIF(B15:B114,B4,D15:D114) -> 0 | E4: =SUMIF(B15:B114,B4,E15:E114) -> 0 | F4: =SUMIF(B15:B114,B4,F15:F114) -> 0 | G4: =SUMIF(B15:B114,B4,G15:G114) -> 0 | H4: =SUMIF(B15:B114,B4,K15:K114) -> 0
B5: =TOTAL!A6 -> Hospedagem | D5: =SUMIF(B15:B114,B5,D15:D114) -> 0 | E5: =SUMIF(B15:B114,B5,E15:E114) -> 0 | F5: =SUMIF(B15:B114,B5,F15:F114) -> 0 | G5: =SUMIF(B15:B114,B5,G15:G114) -> 0 | H5: =SUMIF(B15:B114,B5,K15:K114) -> 0
B6: =TOTAL!A7 -> Imprevisíveis | D6: =SUMIF(B15:B114,B6,D15:D114) -> 0 | E6: =SUMIF(B15:B114,B6,E15:E114) -> 0 | F6: =SUMIF(B15:B114,B6,F15:F114) -> 0 | G6: =SUMIF(B15:B114,B6,G15:G114) -> 0 | H6: =SUMIF(B15:B114,B6,K15:K114) -> 0 | I6: =TOTAL!G2 -> Destino 6
B7: =TOTAL!A8 -> Passagens | D7: =SUMIF(B15:B114,B7,D15:D114) -> 0 | E7: =SUMIF(B15:B114,B7,E15:E114) -> 0 | F7: =SUMIF(B15:B114,B7,F15:F114) -> 0 | G7: =SUMIF(B15:B114,B7,G15:G114) -> 0 | H7: =SUMIF(B15:B114,B7,K15:K114) -> 0
B8: =TOTAL!A9 -> Preparativos | D8: =SUMIF(B15:B114,B8,D15:D114) -> 0 | E8: =SUMIF(B15:B114,B8,E15:E114) -> 0 | F8: =SUMIF(B15:B114,B8,F15:F114) -> 0 | G8: =SUMIF(B15:B114,B8,G15:G114) -> 0 | H8: =SUMIF(B15:B114,B8,K15:K114) -> 0
B9: =TOTAL!A10 -> Transporte local | D9: =SUMIF(B15:B114,B9,D15:D114) -> 0 | E9: =SUMIF(B15:B114,B9,E15:E114) -> 0 | F9: =SUMIF(B15:B114,B9,F15:F114) -> 0 | G9: =SUMIF(B15:B114,B9,G15:G114) -> 0 | H9: =SUMIF(B15:B114,B9,K15:K114) -> 0
B10: =TOTAL!A11 -> Turismo | D10: =SUMIF(B15:B114,B10,D15:D114) -> 0 | E10: =SUMIF(B15:B114,B10,E15:E114) -> 0 | F10: =SUMIF(B15:B114,B10,F15:F114) -> 0 | G10: =SUMIF(B15:B114,B10,G15:G114) -> 0 | H10: =SUMIF(B15:B114,B10,K15:K114) -> 0
B11: Total | D11: =SUM(D3:D10) -> 0 | E11: =SUM(E3:E10) -> 0 | F11: =SUM(F3:F10) -> 0 | G11: =SUM(G3:G10) -> 0 | H11: =SUM(H3:H10) -> 0
A13: Data | B13: Tipo de Despesa | C13: Descrição | D13: Pago em: | H13: Taxa de Câmbio | J13: Diferença Cotação | K13: Valor Final (R$)
D14: Moeda Local | E14: US$ | F14: R$ | G14: Cartão de crédito (R$) | H14: Moeda local/US$ | I14: R$/US$ | J14: Fechamento C.Crédito
H15: 1 | I15: 2.3 | J15: 0 | K15: =(((D15/H15)+E15)*I15)+F15+G15+J15 -> 0
H16: 1 | I16: 2.3 | J16: 0 | K16: =(((D16/H16)+E16)*I16)+F16+G16+J16 -> 0
H17: 1 | I17: 2.3 | J17: 0 | K17: =(((D17/H17)+E17)*I17)+F17+G17+J17 -> 0
H18: 1 | I18: 2.3 | J18: 0 | K18: =(((D18/H18)+E18)*I18)+F18+G18+J18 -> 0
H19: 1 | I19: 2.3 | J19: 0 | K19: =(((D19/H19)+E19)*I19)+F19+G19+J19 -> 0
H20: 1 | I20: 2.3 | J20: 0 | K20: =(((D20/H20)+E20)*I20)+F20+G20+J20 -> 0
H21: 1 | I21: 2.3 | J21: 0 | K21: =(((D21/H21)+E21)*I21)+F21+G21+J21 -> 0
H22: 1 | I22: 2.3 | J22: 0 | K22: =(((D22/H22)+E22)*I22)+F22+G22+J22 -> 0
H23: 1 | I23: 2.3 | J23: 0 | K23: =(((D23/H23)+E23)*I23)+F23+G23+J23 -> 0
H24: 1 | I24: 2.3 | J24: 0 | K24: =(((D24/H24)+E24)*I24)+F24+G24+J24 -> 0
H25: 1 | I25: 2.3 | J25: 0 | K25: =(((D25/H25)+E25)*I25)+F25+G25+J25 -> 0
H26: 1 | I26: 2.3 | J26: 0 | K26: =(((D26/H26)+E26)*I26)+F26+G26+J26 -> 0
... H114: 1 | I114: 2.3 | J114: 0 | K114: =(((D114/H114)+E114)*I114)+F114+G114+J114 -> 0

Sheet DESTINO 7
A1: ViajeSim! | B1: =B13 -> Tipo de Despesa | D1: Pago em: | H1: =K13 -> Valor Final (R$) | I1: Destino 1
D2: =D14 -> Moeda Local | E2: =E14 -> US$ | F2: =F14 -> R$ | G2: =G14 -> Cartão de crédito (R$)
B3: =TOTAL!A4 -> Alimentação | D3: =SUMIF(B15:B114,B3,D15:D114) -> 0 | E3: =SUMIF(B15:B114,B3,E15:E114) -> 0 | F3: =SUMIF(B15:B114,B3,F15:F114) -> 0 | G3: =SUMIF(B15:B114,B3,G15:G114) -> 0 | H3: =SUMIF(B15:B114,B3,K15:K114) -> 0
B4: =TOTAL!A5 -> Compras | D4: =SUMIF(B15:B114,B4,D15:D114) -> 0 | E4: =SUMIF(B15:B114,B4,E15:E114) -> 0 | F4: =SUMIF(B15:B114,B4,F15:F114) -> 0 | G4: =SUMIF(B15:B114,B4,G15:G114) -> 0 | H4: =SUMIF(B15:B114,B4,K15:K114) -> 0
B5: =TOTAL!A6 -> Hospedagem | D5: =SUMIF(B15:B114,B5,D15:D114) -> 0 | E5: =SUMIF(B15:B114,B5,E15:E114) -> 0 | F5: =SUMIF(B15:B114,B5,F15:F114) -> 0 | G5: =SUMIF(B15:B114,B5,G15:G114) -> 0 | H5: =SUMIF(B15:B114,B5,K15:K114) -> 0
B6: =TOTAL!A7 -> Imprevisíveis | D6: =SUMIF(B15:B114,B6,D15:D114) -> 0 | E6: =SUMIF(B15:B114,B6,E15:E114) -> 0 | F6: =SUMIF(B15:B114,B6,F15:F114) -> 0 | G6: =SUMIF(B15:B114,B6,G15:G114) -> 0 | H6: =SUMIF(B15:B114,B6,K15:K114) -> 0 | I6: =TOTAL!H2 -> Destino 7
B7: =TOTAL!A8 -> Passagens | D7: =SUMIF(B15:B114,B7,D15:D114) -> 0 | E7: =SUMIF(B15:B114,B7,E15:E114) -> 0 | F7: =SUMIF(B15:B114,B7,F15:F114) -> 0 | G7: =SUMIF(B15:B114,B7,G15:G114) -> 0 | H7: =SUMIF(B15:B114,B7,K15:K114) -> 0
B8: =TOTAL!A9 -> Preparativos | D8: =SUMIF(B15:B114,B8,D15:D114) -> 0 | E8: =SUMIF(B15:B114,B8,E15:E114) -> 0 | F8: =SUMIF(B15:B114,B8,F15:F114) -> 0 | G8: =SUMIF(B15:B114,B8,G15:G114) -> 0 | H8: =SUMIF(B15:B114,B8,K15:K114) -> 0
B9: =TOTAL!A10 -> Transporte local | D9: =SUMIF(B15:B114,B9,D15:D114) -> 0 | E9: =SUMIF(B15:B114,B9,E15:E114) -> 0 | F9: =SUMIF(B15:B114,B9,F15:F114) -> 0 | G9: =SUMIF(B15:B114,B9,G15:G114) -> 0 | H9: =SUMIF(B15:B114,B9,K15:K114) -> 0
B10: =TOTAL!A11 -> Turismo | D10: =SUMIF(B15:B114,B10,D15:D114) -> 0 | E10: =SUMIF(B15:B114,B10,E15:E114) -> 0 | F10: =SUMIF(B15:B114,B10,F15:F114) -> 0 | G10: =SUMIF(B15:B114,B10,G15:G114) -> 0 | H10: =SUMIF(B15:B114,B10,K15:K114) -> 0
B11: Total | D11: =SUM(D3:D10) -> 0 | E11: =SUM(E3:E10) -> 0 | F11: =SUM(F3:F10) -> 0 | G11: =SUM(G3:G10) -> 0 | H11: =SUM(H3:H10) -> 0
A13: Data | B13: Tipo de Despesa | C13: Descrição | D13: Pago em: | H13: Taxa de Câmbio | J13: Diferença Cotação | K13: Valor Final (R$)
D14: Moeda Local | E14: US$ | F14: R$ | G14: Cartão de crédito (R$) | H14: Moeda local/US$ | I14: R$/US$ | J14: Fechamento C.Crédito
H15: 1 | I15: 2.3 | J15: 0 | K15: =(((D15/H15)+E15)*I15)+F15+G15+J15 -> 0
H16: 1 | I16: 2.3 | J16: 0 | K16: =(((D16/H16)+E16)*I16)+F16+G16+J16 -> 0
H17: 1 | I17: 2.3 | J17: 0 | K17: =(((D17/H17)+E17)*I17)+F17+G17+J17 -> 0
H18: 1 | I18: 2.3 | J18: 0 | K18: =(((D18/H18)+E18)*I18)+F18+G18+J18 -> 0
H19: 1 | I19: 2.3 | J19: 0 | K19: =(((D19/H19)+E19)*I19)+F19+G19+J19 -> 0
H20: 1 | I20: 2.3 | J20: 0 | K20: =(((D20/H20)+E20)*I20)+F20+G20+J20 -> 0
H21: 1 | I21: 2.3 | J21: 0 | K21: =(((D21/H21)+E21)*I21)+F21+G21+J21 -> 0
H22: 1 | I22: 2.3 | J22: 0 | K22: =(((D22/H22)+E22)*I22)+F22+G22+J22 -> 0
H23: 1 | I23: 2.3 | J23: 0 | K23: =(((D23/H23)+E23)*I23)+F23+G23+J23 -> 0
H24: 1 | I24: 2.3 | J24: 0 | K24: =(((D24/H24)+E24)*I24)+F24+G24+J24 -> 0
H25: 1 | I25: 2.3 | J25: 0 | K25: =(((D25/H25)+E25)*I25)+F25+G25+J25 -> 0
H26: 1 | I26: 2.3 | J26: 0 | K26: =(((D26/H26)+E26)*I26)+F26+G26+J26 -> 0
... H114: 1 | I114: 2.3 | J114: 0 | K114: =(((D114/H114)+E114)*I114)+F114+G114+J114 -> 0

Sheet DESTINO 8
A1: ViajeSim! | B1: =B13 -> Tipo de Despesa | D1: Pago em: | H1: =K13 -> Valor Final (R$) | I1: Destino 1
D2: =D14 -> Moeda Local | E2: =E14 -> US$ | F2: =F14 -> R$ | G2: =G14 -> Cartão de crédito (R$)
B3: =TOTAL!A4 -> Alimentação | D3: =SUMIF(B15:B114,B3,D15:D114) -> 0 | E3: =SUMIF(B15:B114,B3,E15:E114) -> 0 | F3: =SUMIF(B15:B114,B3,F15:F114) -> 0 | G3: =SUMIF(B15:B114,B3,G15:G114) -> 0 | H3: =SUMIF(B15:B114,B3,K15:K114) -> 0
B4: =TOTAL!A5 -> Compras | D4: =SUMIF(B15:B114,B4,D15:D114) -> 0 | E4: =SUMIF(B15:B114,B4,E15:E114) -> 0 | F4: =SUMIF(B15:B114,B4,F15:F114) -> 0 | G4: =SUMIF(B15:B114,B4,G15:G114) -> 0 | H4: =SUMIF(B15:B114,B4,K15:K114) -> 0
B5: =TOTAL!A6 -> Hospedagem | D5: =SUMIF(B15:B114,B5,D15:D114) -> 0 | E5: =SUMIF(B15:B114,B5,E15:E114) -> 0 | F5: =SUMIF(B15:B114,B5,F15:F114) -> 0 | G5: =SUMIF(B15:B114,B5,G15:G114) -> 0 | H5: =SUMIF(B15:B114,B5,K15:K114) -> 0
B6: =TOTAL!A7 -> Imprevisíveis | D6: =SUMIF(B15:B114,B6,D15:D114) -> 0 | E6: =SUMIF(B15:B114,B6,E15:E114) -> 0 | F6: =SUMIF(B15:B114,B6,F15:F114) -> 0 | G6: =SUMIF(B15:B114,B6,G15:G114) -> 0 | H6: =SUMIF(B15:B114,B6,K15:K114) -> 0 | I6: =TOTAL!I2 -> Destino 8
B7: =TOTAL!A8 -> Passagens | D7: =SUMIF(B15:B114,B7,D15:D114) -> 0 | E7: =SUMIF(B15:B114,B7,E15:E114) -> 0 | F7: =SUMIF(B15:B114,B7,F15:F114) -> 0 | G7: =SUMIF(B15:B114,B7,G15:G114) -> 0 | H7: =SUMIF(B15:B114,B7,K15:K114) -> 0
B8: =TOTAL!A9 -> Preparativos | D8: =SUMIF(B15:B114,B8,D15:D114) -> 0 | E8: =SUMIF(B15:B114,B8,E15:E114) -> 0 | F8: =SUMIF(B15:B114,B8,F15:F114) -> 0 | G8: =SUMIF(B15:B114,B8,G15:G114) -> 0 | H8: =SUMIF(B15:B114,B8,K15:K114) -> 0
B9: =TOTAL!A10 -> Transporte local | D9: =SUMIF(B15:B114,B9,D15:D114) -> 0 | E9: =SUMIF(B15:B114,B9,E15:E114) -> 0 | F9: =SUMIF(B15:B114,B9,F15:F114) -> 0 | G9: =SUMIF(B15:B114,B9,G15:G114) -> 0 | H9: =SUMIF(B15:B114,B9,K15:K114) -> 0
B10: =TOTAL!A11 -> Turismo | D10: =SUMIF(B15:B114,B10,D15:D114) -> 0 | E10: =SUMIF(B15:B114,B10,E15:E114) -> 0 | F10: =SUMIF(B15:B114,B10,F15:F114) -> 0 | G10: =SUMIF(B15:B114,B10,G15:G114) -> 0 | H10: =SUMIF(B15:B114,B10,K15:K114) -> 0
B11: Total | D11: =SUM(D3:D10) -> 0 | E11: =SUM(E3:E10) -> 0 | F11: =SUM(F3:F10) -> 0 | G11: =SUM(G3:G10) -> 0 | H11: =SUM(H3:H10) -> 0
A13: Data | B13: Tipo de Despesa | C13: Descrição | D13: Pago em: | H13: Taxa de Câmbio | J13: Diferença Cotação | K13: Valor Final (R$)
D14: Moeda Local | E14: US$ | F14: R$ | G14: Cartão de crédito (R$) | H14: Moeda local/US$ | I14: R$/US$ | J14: Fechamento C.Crédito
H15: 1 | I15: 2.3 | J15: 0 | K15: =(((D15/H15)+E15)*I15)+F15+G15+J15 -> 0
H16: 1 | I16: 2.3 | J16: 0 | K16: =(((D16/H16)+E16)*I16)+F16+G16+J16 -> 0
H17: 1 | I17: 2.3 | J17: 0 | K17: =(((D17/H17)+E17)*I17)+F17+G17+J17 -> 0
H18: 1 | I18: 2.3 | J18: 0 | K18: =(((D18/H18)+E18)*I18)+F18+G18+J18 -> 0
H19: 1 | I19: 2.3 | J19: 0 | K19: =(((D19/H19)+E19)*I19)+F19+G19+J19 -> 0
H20: 1 | I20: 2.3 | J20: 0 | K20: =(((D20/H20)+E20)*I20)+F20+G20+J20 -> 0
H21: 1 | I21: 2.3 | J21: 0 | K21: =(((D21/H21)+E21)*I21)+F21+G21+J21 -> 0
H22: 1 | I22: 2.3 | J22: 0 | K22: =(((D22/H22)+E22)*I22)+F22+G22+J22 -> 0
H23: 1 | I23: 2.3 | J23: 0 | K23: =(((D23/H23)+E23)*I23)+F23+G23+J23 -> 0
H24: 1 | I24: 2.3 | J24: 0 | K24: =(((D24/H24)+E24)*I24)+F24+G24+J24 -> 0
H25: 1 | I25: 2.3 | J25: 0 | K25: =(((D25/H25)+E25)*I25)+F25+G25+J25 -> 0
H26: 1 | I26: 2.3 | J26: 0 | K26: =(((D26/H26)+E26)*I26)+F26+G26+J26 -> 0
... H114: 1 | I114: 2.3 | J114: 0 | K114: =(((D114/H114)+E114)*I114)+F114+G114+J114 -> 0

Sheet DESTINO 9
A1: ViajeSim! | B1: =B13 -> Tipo de Despesa | D1: Pago em: | H1: =K13 -> Valor Final (R$) | I1: Destino 1
D2: =D14 -> Moeda Local | E2: =E14 -> US$ | F2: =F14 -> R$ | G2: =G14 -> Cartão de crédito (R$)
B3: =TOTAL!A4 -> Alimentação | D3: =SUMIF(B15:B114,B3,D15:D114) -> 0 | E3: =SUMIF(B15:B114,B3,E15:E114) -> 0 | F3: =SUMIF(B15:B114,B3,F15:F114) -> 0 | G3: =SUMIF(B15:B114,B3,G15:G114) -> 0 | H3: =SUMIF(B15:B114,B3,K15:K114) -> 0
B4: =TOTAL!A5 -> Compras | D4: =SUMIF(B15:B114,B4,D15:D114) -> 0 | E4: =SUMIF(B15:B114,B4,E15:E114) -> 0 | F4: =SUMIF(B15:B114,B4,F15:F114) -> 0 | G4: =SUMIF(B15:B114,B4,G15:G114) -> 0 | H4: =SUMIF(B15:B114,B4,K15:K114) -> 0
B5: =TOTAL!A6 -> Hospedagem | D5: =SUMIF(B15:B114,B5,D15:D114) -> 0 | E5: =SUMIF(B15:B114,B5,E15:E114) -> 0 | F5: =SUMIF(B15:B114,B5,F15:F114) -> 0 | G5: =SUMIF(B15:B114,B5,G15:G114) -> 0 | H5: =SUMIF(B15:B114,B5,K15:K114) -> 0
B6: =TOTAL!A7 -> Imprevisíveis | D6: =SUMIF(B15:B114,B6,D15:D114) -> 0 | E6: =SUMIF(B15:B114,B6,E15:E114) -> 0 | F6: =SUMIF(B15:B114,B6,F15:F114) -> 0 | G6: =SUMIF(B15:B114,B6,G15:G114) -> 0 | H6: =SUMIF(B15:B114,B6,K15:K114) -> 0 | I6: =TOTAL!J2 -> Destino 9
B7: =TOTAL!A8 -> Passagens | D7: =SUMIF(B15:B114,B7,D15:D114) -> 0 | E7: =SUMIF(B15:B114,B7,E15:E114) -> 0 | F7: =SUMIF(B15:B114,B7,F15:F114) -> 0 | G7: =SUMIF(B15:B114,B7,G15:G114) -> 0 | H7: =SUMIF(B15:B114,B7,K15:K114) -> 0
B8: =TOTAL!A9 -> Preparativos | D8: =SUMIF(B15:B114,B8,D15:D114) -> 0 | E8: =SUMIF(B15:B114,B8,E15:E114) -> 0 | F8: =SUMIF(B15:B114,B8,F15:F114) -> 0 | G8: =SUMIF(B15:B114,B8,G15:G114) -> 0 | H8: =SUMIF(B15:B114,B8,K15:K114) -> 0
B9: =TOTAL!A10 -> Transporte local | D9: =SUMIF(B15:B114,B9,D15:D114) -> 0 | E9: =SUMIF(B15:B114,B9,E15:E114) -> 0 | F9: =SUMIF(B15:B114,B9,F15:F114) -> 0 | G9: =SUMIF(B15:B114,B9,G15:G114) -> 0 | H9: =SUMIF(B15:B114,B9,K15:K114) -> 0
B10: =TOTAL!A11 -> Turismo | D10: =SUMIF(B15:B114,B10,D15:D114) -> 0 | E10: =SUMIF(B15:B114,B10,E15:E114) -> 0 | F10: =SUMIF(B15:B114,B10,F15:F114) -> 0 | G10: =SUMIF(B15:B114,B10,G15:G114) -> 0 | H10: =SUMIF(B15:B114,B10,K15:K114) -> 0
B11: Total | D11: =SUM(D3:D10) -> 0 | E11: =SUM(E3:E10) -> 0 | F11: =SUM(F3:F10) -> 0 | G11: =SUM(G3:G10) -> 0 | H11: =SUM(H3:H10) -> 0
A13: Data | B13: Tipo de Despesa | C13: Descrição | D13: Pago em: | H13: Taxa de Câmbio | J13: Diferença Cotação | K13: Valor Final (R$)
D14: Moeda Local | E14: US$ | F14: R$ | G14: Cartão de crédito (R$) | H14: Moeda local/US$ | I14: R$/US$ | J14: Fechamento C.Crédito
H15: 1 | I15: 2.3 | J15: 0 | K15: =(((D15/H15)+E15)*I15)+F15+G15+J15 -> 0
H16: 1 | I16: 2.3 | J16: 0 | K16: =(((D16/H16)+E16)*I16)+F16+G16+J16 -> 0
H17: 1 | I17: 2.3 | J17: 0 | K17: =(((D17/H17)+E17)*I17)+F17+G17+J17 -> 0
H18: 1 | I18: 2.3 | J18: 0 | K18: =(((D18/H18)+E18)*I18)+F18+G18+J18 -> 0
H19: 1 | I19: 2.3 | J19: 0 | K19: =(((D19/H19)+E19)*I19)+F19+G19+J19 -> 0
H20: 1 | I20: 2.3 | J20: 0 | K20: =(((D20/H20)+E20)*I20)+F20+G20+J20 -> 0
H21: 1 | I21: 2.3 | J21: 0 | K21: =(((D21/H21)+E21)*I21)+F21+G21+J21 -> 0
H22: 1 | I22: 2.3 | J22: 0 | K22: =(((D22/H22)+E22)*I22)+F22+G22+J22 -> 0
H23: 1 | I23: 2.3 | J23: 0 | K23: =(((D23/H23)+E23)*I23)+F23+G23+J23 -> 0
H24: 1 | I24: 2.3 | J24: 0 | K24: =(((D24/H24)+E24)*I24)+F24+G24+J24 -> 0
H25: 1 | I25: 2.3 | J25: 0 | K25: =(((D25/H25)+E25)*I25)+F25+G25+J25 -> 0
H26: 1 | I26: 2.3 | J26: 0 | K26: =(((D26/H26)+E26)*I26)+F26+G26+J26 -> 0
... H114: 1 | I114: 2.3 | J114: 0 | K114: =(((D114/H114)+E114)*I114)+F114+G114+J114 -> 0

Sheet DESTINO 10
A1: ViajeSim! | B1: =B13 -> Tipo de Despesa | D1: Pago em: | H1: =K13 -> Valor Final (R$) | I1: Destino 1
D2: =D14 -> Moeda Local | E2: =E14 -> US$ | F2: =F14 -> R$ | G2: =G14 -> Cartão de crédito (R$)
B3: =TOTAL!A4 -> Alimentação | D3: =SUMIF(B15:B114,B3,D15:D114) -> 0 | E3: =SUMIF(B15:B114,B3,E15:E114) -> 0 | F3: =SUMIF(B15:B114,B3,F15:F114) -> 0 | G3: =SUMIF(B15:B114,B3,G15:G114) -> 0 | H3: =SUMIF(B15:B114,B3,K15:K114) -> 0
B4: =TOTAL!A5 -> Compras | D4: =SUMIF(B15:B114,B4,D15:D114) -> 0 | E4: =SUMIF(B15:B114,B4,E15:E114) -> 0 | F4: =SUMIF(B15:B114,B4,F15:F114) -> 0 | G4: =SUMIF(B15:B114,B4,G15:G114) -> 0 | H4: =SUMIF(B15:B114,B4,K15:K114) -> 0
B5: =TOTAL!A6 -> Hospedagem | D5: =SUMIF(B15:B114,B5,D15:D114) -> 0 | E5: =SUMIF(B15:B114,B5,E15:E114) -> 0 | F5: =SUMIF(B15:B114,B5,F15:F114) -> 0 | G5: =SUMIF(B15:B114,B5,G15:G114) -> 0 | H5: =SUMIF(B15:B114,B5,K15:K114) -> 0
B6: =TOTAL!A7 -> Imprevisíveis | D6: =SUMIF(B15:B114,B6,D15:D114) -> 0 | E6: =SUMIF(B15:B114,B6,E15:E114) -> 0 | F6: =SUMIF(B15:B114,B6,F15:F114) -> 0 | G6: =SUMIF(B15:B114,B6,G15:G114) -> 0 | H6: =SUMIF(B15:B114,B6,K15:K114) -> 0 | I6: =TOTAL!K2 -> Destino 10
B7: =TOTAL!A8 -> Passagens | D7: =SUMIF(B15:B114,B7,D15:D114) -> 0 | E7: =SUMIF(B15:B114,B7,E15:E114) -> 0 | F7: =SUMIF(B15:B114,B7,F15:F114) -> 0 | G7: =SUMIF(B15:B114,B7,G15:G114) -> 0 | H7: =SUMIF(B15:B114,B7,K15:K114) -> 0
B8: =TOTAL!A9 -> Preparativos | D8: =SUMIF(B15:B114,B8,D15:D114) -> 0 | E8: =SUMIF(B15:B114,B8,E15:E114) -> 0 | F8: =SUMIF(B15:B114,B8,F15:F114) -> 0 | G8: =SUMIF(B15:B114,B8,G15:G114) -> 0 | H8: =SUMIF(B15:B114,B8,K15:K114) -> 0
B9: =TOTAL!A10 -> Transporte local | D9: =SUMIF(B15:B114,B9,D15:D114) -> 0 | E9: =SUMIF(B15:B114,B9,E15:E114) -> 0 | F9: =SUMIF(B15:B114,B9,F15:F114) -> 0 | G9: =SUMIF(B15:B114,B9,G15:G114) -> 0 | H9: =SUMIF(B15:B114,B9,K15:K114) -> 0
B10: =TOTAL!A11 -> Turismo | D10: =SUMIF(B15:B114,B10,D15:D114) -> 0 | E10: =SUMIF(B15:B114,B10,E15:E114) -> 0 | F10: =SUMIF(B15:B114,B10,F15:F114) -> 0 | G10: =SUMIF(B15:B114,B10,G15:G114) -> 0 | H10: =SUMIF(B15:B114,B10,K15:K114) -> 0
B11: Total | D11: =SUM(D3:D10) -> 0 | E11: =SUM(E3:E10) -> 0 | F11: =SUM(F3:F10) -> 0 | G11: =SUM(G3:G10) -> 0 | H11: =SUM(H3:H10) -> 0
A13: Data | B13: Tipo de Despesa | C13: Descrição | D13: Pago em: | H13: Taxa de Câmbio | J13: Diferença Cotação | K13: Valor Final (R$)
D14: Moeda Local | E14: US$ | F14: R$ | G14: Cartão de crédito (R$) | H14: Moeda local/US$ | I14: R$/US$ | J14: Fechamento C.Crédito
H15: 1 | I15: 2.3 | J15: 0 | K15: =(((D15/H15)+E15)*I15)+F15+G15+J15 -> 0
H16: 1 | I16: 2.3 | J16: 0 | K16: =(((D16/H16)+E16)*I16)+F16+G16+J16 -> 0
H17: 1 | I17: 2.3 | J17: 0 | K17: =(((D17/H17)+E17)*I17)+F17+G17+J17 -> 0
H18: 1 | I18: 2.3 | J18: 0 | K18: =(((D18/H18)+E18)*I18)+F18+G18+J18 -> 0
H19: 1 | I19: 2.3 | J19: 0 | K19: =(((D19/H19)+E19)*I19)+F19+G19+J19 -> 0
H20: 1 | I20: 2.3 | J20: 0 | K20: =(((D20/H20)+E20)*I20)+F20+G20+J20 -> 0
H21: 1 | I21: 2.3 | J21: 0 | K21: =(((D21/H21)+E21)*I21)+F21+G21+J21 -> 0
H22: 1 | I22: 2.3 | J22: 0 | K22: =(((D22/H22)+E22)*I22)+F22+G22+J22 -> 0
H23: 1 | I23: 2.3 | J23: 0 | K23: =(((D23/H23)+E23)*I23)+F23+G23+J23 -> 0
H24: 1 | I24: 2.3 | J24: 0 | K24: =(((D24/H24)+E24)*I24)+F24+G24+J24 -> 0
H25: 1 | I25: 2.3 | J25: 0 | K25: =(((D25/H25)+E25)*I25)+F25+G25+J25 -> 0
H26: 1 | I26: 2.3 | J26: 0 | K26: =(((D26/H26)+E26)*I26)+F26+G26+J26 -> 0
... H114: 1 | I114: 2.3 | J114: 0 | K114: =(((D114/H114)+E114)*I114)+F114+G114+J114 -> 0

Sheet TOTAL
A2: Tipo de Despesa | B2: Destino 1 | C2: Destino 2 | D2: Destino 3 | E2: Destino 4 | F2: Destino 5 | G2: Destino 6 | H2: Destino 7 | I2: Destino 8 | J2: Destino 9 | K2: Destino 10 | L2: Total
A4: Alimentação | B4: ='DESTINO 1'!H3 -> 0 | C4: ='DESTINO 2'!H3 -> 0 | D4: ='DESTINO 3'!H3 -> 0 | E4: ='DESTINO 4'!H3 -> 0 | F4: ='DESTINO 5'!H3 -> 0 | G4: ='DESTINO 6'!H3 -> 0 | H4: ='DESTINO 7'!H3 -> 0 | I4: ='DESTINO 8'!H3 -> 0 | J4: ='DESTINO 9'!H3 -> 0 | K4: ='DESTINO 10'!H3 -> 0 | L4: =SUM(B4:K4) -> 0
A5: Compras | B5: ='DESTINO 1'!H4 -> 0 | C5: ='DESTINO 2'!H4 -> 0 | D5: ='DESTINO 3'!H4 -> 0 | E5: ='DESTINO 4'!H4 -> 0 | F5: ='DESTINO 5'!H4 -> 0 | G5: ='DESTINO 6'!H4 -> 0 | H5: ='DESTINO 7'!H4 -> 0 | I5: ='DESTINO 8'!H4 -> 0 | J5: ='DESTINO 9'!H4 -> 0 | K5: ='DESTINO 10'!H4 -> 0 | L5: =SUM(B5:K5) -> 0
A6: Hospedagem | B6: ='DESTINO 1'!H5 -> 0 | C6: ='DESTINO 2'!H5 -> 0 | D6: ='DESTINO 3'!H5 -> 0 | E6: ='DESTINO 4'!H5 -> 0 | F6: ='DESTINO 5'!H5 -> 0 | G6: ='DESTINO 6'!H5 -> 0 | H6: ='DESTINO 7'!H5 -> 0 | I6: ='DESTINO 8'!H5 -> 0 | J6: ='DESTINO 9'!H5 -> 0 | K6: ='DESTINO 10'!H5 -> 0 | L6: =SUM(B6:K6) -> 0
A7: Imprevisíveis | B7: ='DESTINO 1'!H6 -> 0 | C7: ='DESTINO 2'!H6 -> 0 | D7: ='DESTINO 3'!H6 -> 0 | E7: ='DESTINO 4'!H6 -> 0 | F7: ='DESTINO 5'!H6 -> 0 | G7: ='DESTINO 6'!H6 -> 0 | H7: ='DESTINO 7'!H6 -> 0 | I7: ='DESTINO 8'!H6 -> 0 | J7: ='DESTINO 9'!H6 -> 0 | K7: ='DESTINO 10'!H6 -> 0 | L7: =SUM(B7:K7) -> 0
A8: Passagens | B8: ='DESTINO 1'!H7 -> 0 | C8: ='DESTINO 2'!H7 -> 0 | D8: ='DESTINO 3'!H7 -> 0 | E8: ='DESTINO 4'!H7 -> 0 | F8: ='DESTINO 5'!H7 -> 0 | G8: ='DESTINO 6'!H7 -> 0 | H8: ='DESTINO 7'!H7 -> 0 | I8: ='DESTINO 8'!H7 -> 0 | J8: ='DESTINO 9'!H7 -> 0 | K8: ='DESTINO 10'!H7 -> 0 | L8: =SUM(B8:K8) -> 0
A9: Preparativos | B9: ='DESTINO 1'!H8 -> 0 | C9: ='DESTINO 2'!H8 -> 0 | D9: ='DESTINO 3'!H8 -> 0 | E9: ='DESTINO 4'!H8 -> 0 | F9: ='DESTINO 5'!H8 -> 0 | G9: ='DESTINO 6'!H8 -> 0 | H9: ='DESTINO 7'!H8 -> 0 | I9: ='DESTINO 8'!H8 -> 0 | J9: ='DESTINO 9'!H8 -> 0 | K9: ='DESTINO 10'!H8 -> 0 | L9: =SUM(B9:K9) -> 0
A10: Transporte local | B10: ='DESTINO 1'!H9 -> 0 | C10: ='DESTINO 2'!H9 -> 0 | D10: ='DESTINO 3'!H9 -> 0 | E10: ='DESTINO 4'!H9 -> 0 | F10: ='DESTINO 5'!H9 -> 0 | G10: ='DESTINO 6'!H9 -> 0 | H10: ='DESTINO 7'!H9 -> 0 | I10: ='DESTINO 8'!H9 -> 0 | J10: ='DESTINO 9'!H9 -> 0 | K10: ='DESTINO 10'!H9 -> 0 | L10: =SUM(B10:K10) -> 0
A11: Turismo | B11: ='DESTINO 1'!H10 -> 0 | C11: ='DESTINO 2'!H10 -> 0 | D11: ='DESTINO 3'!H10 -> 0 | E11: ='DESTINO 4'!H10 -> 0 | F11: ='DESTINO 5'!H10 -> 0 | G11: ='DESTINO 6'!H10 -> 0 | H11: ='DESTINO 7'!H10 -> 0 | I11: ='DESTINO 8'!H10 -> 0 | J11: ='DESTINO 9'!H10 -> 0 | K11: ='DESTINO 10'!H10 -> 0 | L11: =SUM(B11:K11) -> 0
A12: Total | B12: =SUM(B4:B11) -> 0 | C12: =SUM(C4:C11) -> 0 | D12: =SUM(D4:D11) -> 0 | E12: =SUM(E4:E11) -> 0 | F12: =SUM(F4:F11) -> 0 | G12: =SUM(G4:G11) -> 0 | H12: =SUM(H4:H11) -> 0 | I12: =SUM(I4:I11) -> 0 | ... L12: =SUM(L4:L11) -> 0
